BEGIN:VCALENDAR
VERSION:2.0
PRODID:-//Sabre//Sabre VObject 4.5.8//EN
CALSCALE:GREGORIAN
BEGIN:VTIMEZONE
TZID:Europe/Zurich
X-LIC-LOCATION:Europe/Zurich
TZURL:http://tzurl.org/zoneinfo/Europe/Zurich
BEGIN:DAYLIGHT
TZOFFSETFROM:+0100
TZOFFSETTO:+0200
TZNAME:CEST
DTSTART:19810329T020000
RRULE:FREQ=YEARLY;BYMONTH=3;BYDAY=-1SU
END:DAYLIGHT
BEGIN:STANDARD
TZOFFSETFROM:+0200
TZOFFSETTO:+0100
TZNAME:CET
DTSTART:19961027T030000
RRULE:FREQ=YEARLY;BYMONTH=10;BYDAY=-1SU
END:STANDARD
END:VTIMEZONE
BEGIN:VEVENT
UID:news794@dsbg.unibas.ch
DTSTAMP;TZID=Europe/Zurich:20250909T085823
DTSTART;TZID=Europe/Zurich:20260424T070000
SUMMARY:Aufnahmeprüfung für die Zulassung zum Studium am DSBG HS 2026
DESCRIPTION:Die Aufnahmeprüfung für die Zulassung zum Bachelorstudium Spo
 rt\, Bewegung und Gesundheit mit Studienbeginn HS 2026 findet am Freitag\,
  24. April und Samstag\, 25. April 2026 statt. Zeit- und Lageplan sowie we
 itere Informationen zu u.a. den Prüfungskriterien finden Sie hier [https:
 //dsbg.unibas.ch/de/studium/aufnahmepruefung/].  
X-ALT-DESC:<p>Die Aufnahmeprüfung für die Zulassung zum Bachelorstudium S
 port\, Bewegung und Gesundheit mit Studienbeginn HS 2026 findet am Freitag
 \, 24. April und Samstag\, 25. April 2026 statt.<br /> Zeit- und Lageplan 
 sowie weitere Informationen zu u.a. den Prüfungskriterien finden Sie <a h
 ref="https://dsbg.unibas.ch/de/studium/aufnahmepruefung/" target="_blank">
 hier</a>.<br /> &nbsp\;</p>
DTEND;TZID=Europe/Zurich:20260425T193000
END:VEVENT
END:VCALENDAR
